BEGIN:VCALENDAR
VERSION:2.0
PRODID:-//Plone.org//NONSGML plone.app.event//EN
X-WR-TIMEZONE:Europe/Berlin
BEGIN:VEVENT
SUMMARY:Test Single Event
DTSTART;TZID=Europe/Berlin:20260127T180000
DTEND;TZID=Europe/Berlin:20260127T190000
DTSTAMP:20260422T184316Z
UID:81d8aea13b2046f4857e12f29107b9ff@tagung-plone-de_backend:8080
CREATED:20260127T172337Z
DESCRIPTION:This is a Dummy Event to test the collection iCal export
LAST-MODIFIED:20260127T172400Z
LOCATION:The Web
URL:http://tagung-plone-de_backend:8080/Plone/2025/tagung/programm-plone-t
 agung/test-single-event
END:VEVENT
BEGIN:VEVENT
SUMMARY:Reoccuring Test Event
DTSTART;TZID=Europe/Berlin:20260429T180000
DTEND;TZID=Europe/Berlin:20260429T190000
DTSTAMP:20260422T184316Z
UID:1c140ab54b30498ab13c1c24344c7970@tagung-plone-de_backend:8080
RRULE:FREQ=MONTHLY;COUNT=10;INTERVAL=1;BYMONTHDAY=29
CREATED:20260127T172730Z
DESCRIPTION:Another Test Event
LAST-MODIFIED:20260127T172805Z
LOCATION:The Web
URL:http://tagung-plone-de_backend:8080/Plone/2025/tagung/programm-plone-t
 agung/reoccuring-test-event
END:VEVENT
BEGIN:VTIMEZONE
TZID:Europe/Berlin
X-LIC-LOCATION:Europe/Berlin
BEGIN:STANDARD
DTSTART:20251026T020000
TZNAME:CET
TZOFFSETFROM:+0200
TZOFFSETTO:+0100
END:STANDARD
BEGIN:DAYLIGHT
DTSTART:20260329T030000
TZNAME:CEST
TZOFFSETFROM:+0100
TZOFFSETTO:+0200
END:DAYLIGHT
END:VTIMEZONE
END:VCALENDAR
